BEGIN:VCALENDAR
VERSION:2.0
PRODID:-//eventon.com NONSGML v1.0//EN
CALSCALE:GREGORIAN
METHOD:PUBLISH
BEGIN:VEVENT
UID:69e65840128ff
DTSTAMP:20260420T164552Z
DTSTART:20220708
DTEND:20220709
LOCATION:
SUMMARY:The Maine Event
DESCRIPTION:The Maine Event\nhttps://www.beaverdamcampground.com/events/the
 -maine-event/
URL:https://www.beaverdamcampground.com/events/the-maine-event/
END:VEVENT
END:VCALENDAR